BEGIN:VCALENDAR
VERSION:2.0
PRODID:-//Plone.org//NONSGML plone.app.event//EN
X-WR-TIMEZONE:US/Eastern
BEGIN:VEVENT
SUMMARY:Beginning Email
DTSTART;TZID=US/Eastern:20121127T180000
DTEND;TZID=US/Eastern:20121127T200000
DTSTAMP:20260420T120757Z
UID:e6725805be865ecbbfc964fcc98126af@saas_stack_varnish:6080
CONTACT:April\, 231-775-6541
CREATED:20121022T164121Z
DESCRIPTION:How to use your email account.
LAST-MODIFIED:20121022T164133Z
LOCATION:Cadillac Meeting Room
URL:https://cadillac.ploud.net/Calendar/lib-cal/beginning-email-1.ics
END:VEVENT
BEGIN:VTIMEZONE
TZID:US/Eastern
X-LIC-LOCATION:US/Eastern
BEGIN:STANDARD
DTSTART:20121104T010000
TZNAME:EST
TZOFFSETFROM:-0400
TZOFFSETTO:-0500
END:STANDARD
END:VTIMEZONE
END:VCALENDAR
