BEGIN:VCALENDAR
VERSION:2.0
PRODID:-//Plone.org//NONSGML plone.app.event//EN
X-WR-TIMEZONE:US/Eastern
BEGIN:VEVENT
SUMMARY:Beginning Email
DTSTART;TZID=US/Eastern:20121128T100000
DTEND;TZID=US/Eastern:20121128T114500
DTSTAMP:20260420T120757Z
UID:46cf418025744524d8b55f1ffa741152@saas_stack_varnish:6080
CONTACT:April\, 231-775-6541
CREATED:20121022T164330Z
DESCRIPTION:Show you how to use your email account
LAST-MODIFIED:20121022T164342Z
LOCATION:Cadillac Meeting Room
URL:https://cadillac.ploud.net/Calendar/lib-cal/beginning-email-2.ics
END:VEVENT
BEGIN:VTIMEZONE
TZID:US/Eastern
X-LIC-LOCATION:US/Eastern
BEGIN:STANDARD
DTSTART:20121104T010000
TZNAME:EST
TZOFFSETFROM:-0400
TZOFFSETTO:-0500
END:STANDARD
END:VTIMEZONE
END:VCALENDAR
