BEGIN:VCALENDAR
VERSION:2.0
PRODID:-//Plone.org//NONSGML plone.app.event//EN
X-WR-TIMEZONE:US/Eastern
BEGIN:VEVENT
SUMMARY:Beginning Internet
DTSTART;TZID=US/Eastern:20121010T100000
DTEND;TZID=US/Eastern:20121010T114500
DTSTAMP:20260420T085425Z
UID:3fd207c2439d79a36b8e8ec0b62262f7@saas_stack_varnish:6080
CONTACT:April Liedeke\, 231-775-6541
CREATED:20120926T184948Z
DESCRIPTION:Computer class for the basics of using the Internet.
LAST-MODIFIED:20120926T184959Z
LOCATION:Cadillac Meeting Room
URL:https://cadillac.ploud.net/Calendar/lib-cal/beginning-internet-2.ics
END:VEVENT
BEGIN:VTIMEZONE
TZID:US/Eastern
X-LIC-LOCATION:US/Eastern
BEGIN:DAYLIGHT
DTSTART:20120311T030000
TZNAME:EDT
TZOFFSETFROM:-0500
TZOFFSETTO:-0400
END:DAYLIGHT
END:VTIMEZONE
END:VCALENDAR
