BEGIN:VCALENDAR
VERSION:2.0
PRODID:-//Plone.org//NONSGML plone.app.event//EN
X-WR-TIMEZONE:US/Eastern
BEGIN:VEVENT
SUMMARY:Beginning Internet
DTSTART;TZID=US/Eastern:20121121T100000
DTEND;TZID=US/Eastern:20121121T114500
DTSTAMP:20260420T120756Z
UID:c56836caf8135550b2916c134d7debf9@saas_stack_varnish:6080
CONTACT:April\, 231-775-6541
CREATED:20121022T163330Z
DESCRIPTION:Shows users how to use the internet.
LAST-MODIFIED:20121022T163402Z
LOCATION:Cadillac Meeting Room
URL:https://cadillac.ploud.net/Calendar/lib-cal/beginning-internet-6.ics
END:VEVENT
BEGIN:VTIMEZONE
TZID:US/Eastern
X-LIC-LOCATION:US/Eastern
BEGIN:STANDARD
DTSTART:20121104T010000
TZNAME:EST
TZOFFSETFROM:-0400
TZOFFSETTO:-0500
END:STANDARD
END:VTIMEZONE
END:VCALENDAR
