BEGIN:VCALENDAR
VERSION:2.0
PRODID:-//Plone.org//NONSGML plone.app.event//EN
X-WR-TIMEZONE:US/Eastern
BEGIN:VEVENT
SUMMARY:Beginning Publisher
DTSTART;TZID=US/Eastern:20121211T180000
DTEND;TZID=US/Eastern:20121211T200000
DTSTAMP:20260420T085525Z
UID:8caf5b909d364dea7614eab12909cc21@saas_stack_varnish:6080
CONTACT:April\, 231-775-6541
CREATED:20121024T205533Z
DESCRIPTION:Learn the basics of how to use Microsoft Publisher.
LAST-MODIFIED:20121024T205547Z
LOCATION:Cadillac Meeting Room
URL:https://cadillac.ploud.net/Calendar/lib-cal/beginning-publisher-1.ics
END:VEVENT
BEGIN:VTIMEZONE
TZID:US/Eastern
X-LIC-LOCATION:US/Eastern
BEGIN:STANDARD
DTSTART:20121104T010000
TZNAME:EST
TZOFFSETFROM:-0400
TZOFFSETTO:-0500
END:STANDARD
END:VTIMEZONE
END:VCALENDAR
