BEGIN:VCALENDAR
VERSION:2.0
PRODID:-//Plone.org//NONSGML plone.app.event//EN
X-WR-TIMEZONE:US/Eastern
BEGIN:VEVENT
SUMMARY:Beginning Publisher
DTSTART;TZID=US/Eastern:20121205T100000
DTEND;TZID=US/Eastern:20121205T114500
DTSTAMP:20260420T120756Z
UID:abbf7f047c904a122ae3c21f186081a1@saas_stack_varnish:6080
CONTACT:April\, 231-775-6541
CREATED:20121024T205317Z
DESCRIPTION:Learn the basics of how to use Microsoft Publisher.
LAST-MODIFIED:20121024T205342Z
LOCATION:Cadillac Meeting Room
URL:https://cadillac.ploud.net/Calendar/lib-cal/beginning-publisher.ics
END:VEVENT
BEGIN:VTIMEZONE
TZID:US/Eastern
X-LIC-LOCATION:US/Eastern
BEGIN:STANDARD
DTSTART:20121104T010000
TZNAME:EST
TZOFFSETFROM:-0400
TZOFFSETTO:-0500
END:STANDARD
END:VTIMEZONE
END:VCALENDAR
