BEGIN:VCALENDAR
VERSION:2.0
PRODID:-//Plone.org//NONSGML plone.app.event//EN
X-WR-TIMEZONE:US/Eastern
BEGIN:VEVENT
SUMMARY:Catch the Gingerbread Man!
DTSTART;TZID=US/Eastern:20121124T130000
DTEND;TZID=US/Eastern:20121124T140000
DTSTAMP:20260420T120823Z
UID:5cc418c961142122cf5c6dde2a15ca7e@saas_stack_varnish:6080
CONTACT:Miss Tracy
CREATED:20120830T194856Z
DESCRIPTION:Join us for a gingerbread storytime and then decorate your own
  gingerbread man!
LAST-MODIFIED:20120830T194912Z
LOCATION:Cadillac Wexford Public Library
URL:https://cadillac.ploud.net/Calendar/lib-cal/catch-the-gingerbread-man.
 ics
END:VEVENT
BEGIN:VTIMEZONE
TZID:US/Eastern
X-LIC-LOCATION:US/Eastern
BEGIN:STANDARD
DTSTART:20121104T010000
TZNAME:EST
TZOFFSETFROM:-0400
TZOFFSETTO:-0500
END:STANDARD
END:VTIMEZONE
END:VCALENDAR
