BEGIN:VCALENDAR
VERSION:2.0
PRODID:-//Plone.org//NONSGML plone.app.event//EN
X-WR-TIMEZONE:US/Eastern
BEGIN:VEVENT
SUMMARY:Closed for Thanksgiving
DTSTART;TZID=US/Eastern:20121122T090000
DTEND;TZID=US/Eastern:20121122T200000
DTSTAMP:20260420T120802Z
UID:35589c0fa18a5a1a1e732b545fcc94be@saas_stack_varnish:6080
CREATED:20121022T160918Z
DESCRIPTION:The library will be closed all day.
LAST-MODIFIED:20121022T160929Z
URL:https://cadillac.ploud.net/Calendar/lib-cal/closed-for-thanksgiving.ic
 s
END:VEVENT
BEGIN:VTIMEZONE
TZID:US/Eastern
X-LIC-LOCATION:US/Eastern
BEGIN:STANDARD
DTSTART:20121104T010000
TZNAME:EST
TZOFFSETFROM:-0400
TZOFFSETTO:-0500
END:STANDARD
END:VTIMEZONE
END:VCALENDAR
