BEGIN:VCALENDAR
VERSION:2.0
PRODID:-//Plone.org//NONSGML plone.app.event//EN
X-WR-TIMEZONE:US/Eastern
BEGIN:VEVENT
SUMMARY:FOL Program: Civilian Conservation Corps Camp Program
DTSTART;TZID=US/Eastern:20190309T110000
DTEND;TZID=US/Eastern:20190309T120000
DTSTAMP:20260422T115526Z
UID:92b5708aae5d4bad9d44f251133c1107@saas_stack_varnish:6080
CREATED:20190301T220025Z
DESCRIPTION:This program is presented by the Friends of the Library.  Spea
 ker Mindy Pepsnik talks about her family and families across America in th
 e Civilian Conservation Corps Camps.
LAST-MODIFIED:20190301T220029Z
LOCATION:Cadillac Wexford Public Library Community Room
URL:https://cadillac.ploud.net/Calendar/lib-cal/fol-program-civilian-conse
 rvation-corps-camp-program
END:VEVENT
BEGIN:VTIMEZONE
TZID:US/Eastern
X-LIC-LOCATION:US/Eastern
BEGIN:STANDARD
DTSTART:20181104T010000
TZNAME:EST
TZOFFSETFROM:-0400
TZOFFSETTO:-0500
END:STANDARD
END:VTIMEZONE
END:VCALENDAR
