BEGIN:VCALENDAR
VERSION:2.0
PRODID:-//Plone.org//NONSGML plone.app.event//EN
X-WR-TIMEZONE:US/Eastern
BEGIN:VEVENT
SUMMARY:Free Family Friendly Movie Night
DTSTART;TZID=US/Eastern:20190321T170000
DTEND;TZID=US/Eastern:20190321T193000
DTSTAMP:20260420T120102Z
UID:c6e789c8a211432c98df4842ca7697cf@saas_stack_varnish:6080
ATTENDEE;CN="All ages.  Bring a snack and beverage and enjoy the show.";RO
 LE=REQ-PARTICIPANT:All ages.  Bring a snack and beverage and enjoy the sho
 w.
CONTACT:231-775-6541
CREATED:20190301T172319Z
DESCRIPTION:Movie:  Fantastic Beasts: Crimes of Grindelwald rated PG-13 wi
 th a run time of 2 hours 14 minutes.  Bring a snack and beverage and enjoy
  the show.
LAST-MODIFIED:20190301T172324Z
LOCATION:Cadillac Wexford Public Library
URL:https://cadillac.ploud.net/Calendar/lib-cal/free-family-friendly-movie
 -night
END:VEVENT
BEGIN:VTIMEZONE
TZID:US/Eastern
X-LIC-LOCATION:US/Eastern
BEGIN:DAYLIGHT
DTSTART:20190310T030000
TZNAME:EDT
TZOFFSETFROM:-0500
TZOFFSETTO:-0400
END:DAYLIGHT
END:VTIMEZONE
END:VCALENDAR
