BEGIN:VCALENDAR
VERSION:2.0
PRODID:-//Plone.org//NONSGML plone.app.event//EN
X-WR-TIMEZONE:US/Eastern
BEGIN:VEVENT
SUMMARY:Free Movies @ the Library
DTSTART;TZID=US/Eastern:20190221T170000
DTEND;TZID=US/Eastern:20190221T184500
DTSTAMP:20260422T120300Z
UID:8c919c6fd5fb4214990c04fadb987638@saas_stack_varnish:6080
ATTENDEE;CN="All ages welcome.";ROLE=REQ-PARTICIPANT:All ages welcome.
CONTACT:231-775-6541
CREATED:20190204T205631Z
DESCRIPTION:Movie: The House with a Clock in its Walls rated PG with a run
  time if 1 hour 45 minutes.
LAST-MODIFIED:20190204T205705Z
LOCATION:Cadillac Community Room
URL:https://cadillac.ploud.net/Calendar/lib-cal/free-movies-the-library-15
 49313791.56
END:VEVENT
BEGIN:VTIMEZONE
TZID:US/Eastern
X-LIC-LOCATION:US/Eastern
BEGIN:STANDARD
DTSTART:20181104T010000
TZNAME:EST
TZOFFSETFROM:-0400
TZOFFSETTO:-0500
END:STANDARD
END:VTIMEZONE
END:VCALENDAR
