BEGIN:VCALENDAR
VERSION:2.0
PRODID:-//Plone.org//NONSGML plone.app.event//EN
X-WR-TIMEZONE:US/Eastern
BEGIN:VEVENT
SUMMARY:Life Size Clue
DTSTART;TZID=US/Eastern:20190406T180000
DTEND;TZID=US/Eastern:20190406T200000
DTSTAMP:20260420T115654Z
UID:6ea306f992644d2ba87b64695303fa20@saas_stack_varnish:6080
ATTENDEE;CN="Ages 18+";ROLE=REQ-PARTICIPANT:Ages 18+
CONTACT:231-775-6541\, text@cadillaclibrary.org
CREATED:20190311T194235Z
DESCRIPTION:Who killed Mr. Body?  Can you and your fellow sleuths solve th
 e mystery?  Sign up by calling 231-775-6541 for a character.  Come dressed
  in costume/color.
LAST-MODIFIED:20190311T194241Z
LOCATION:Cadillac Wexford Public Library
URL:https://cadillac.ploud.net/Calendar/lib-cal/life-size-clue-2
END:VEVENT
BEGIN:VTIMEZONE
TZID:US/Eastern
X-LIC-LOCATION:US/Eastern
BEGIN:DAYLIGHT
DTSTART:20190310T030000
TZNAME:EDT
TZOFFSETFROM:-0500
TZOFFSETTO:-0400
END:DAYLIGHT
END:VTIMEZONE
END:VCALENDAR
