BEGIN:VCALENDAR
VERSION:2.0
PRODID:-//Plone.org//NONSGML plone.app.event//EN
X-WR-TIMEZONE:US/Eastern
BEGIN:VEVENT
SUMMARY:Magic Tree House Party
DTSTART;TZID=US/Eastern:20190323T110000
DTEND;TZID=US/Eastern:20190323T120000
DTSTAMP:20260420T115613Z
UID:448d92790dd84f098818c4e4c9aa6cec@saas_stack_varnish:6080
ATTENDEE;CN="Families Welcome";ROLE=REQ-PARTICIPANT:Families Welcome
CONTACT:Miss Windy\, 231-775-6541\, barrettw@cadillaclibrary.org
CREATED:20190124T215136Z
DESCRIPTION:Sign up required.  Families welcome!  Do you love the Magic Tr
 ee House series?  Then you will love the party!
LAST-MODIFIED:20190124T215153Z
LOCATION:Cadillac Wexford Public Library
URL:https://cadillac.ploud.net/Calendar/lib-cal/magic-tree-house-party
END:VEVENT
BEGIN:VTIMEZONE
TZID:US/Eastern
X-LIC-LOCATION:US/Eastern
BEGIN:DAYLIGHT
DTSTART:20190310T030000
TZNAME:EDT
TZOFFSETFROM:-0500
TZOFFSETTO:-0400
END:DAYLIGHT
END:VTIMEZONE
END:VCALENDAR
