BEGIN:VCALENDAR
VERSION:2.0
PRODID:-//Plone.org//NONSGML plone.app.event//EN
X-WR-TIMEZONE:US/Eastern
BEGIN:VEVENT
SUMMARY:Marvel's The Avengers (movie)
DTSTART;TZID=US/Eastern:20121226T140000
DTEND;TZID=US/Eastern:20121226T163000
DTSTAMP:20260420T090309Z
UID:762baee8b831da383c67e3e26b410a85@saas_stack_varnish:6080
CONTACT:231-775-6541
CREATED:20121130T194554Z
DESCRIPTION:A group of super heroes from Mavel's universe team up to fight
  an invasion force.
LAST-MODIFIED:20121130T194613Z
LOCATION:Cadillac Meeting Room
URL:https://cadillac.ploud.net/Calendar/lib-cal/marvels-the-avengers-movie
 .ics
END:VEVENT
BEGIN:VTIMEZONE
TZID:US/Eastern
X-LIC-LOCATION:US/Eastern
BEGIN:STANDARD
DTSTART:20121104T010000
TZNAME:EST
TZOFFSETFROM:-0400
TZOFFSETTO:-0500
END:STANDARD
END:VTIMEZONE
END:VCALENDAR
