BEGIN:VCALENDAR
VERSION:2.0
PRODID:-//Plone.org//NONSGML plone.app.event//EN
X-WR-TIMEZONE:US/Eastern
BEGIN:VEVENT
SUMMARY:Messy Baby\, Happy Baby
DTSTART;TZID=US/Eastern:20190406T110000
DTEND;TZID=US/Eastern:20190406T120000
DTSTAMP:20260420T115950Z
UID:7371280a84c742aeb9d605a68eb4b0be@saas_stack_varnish:6080
ATTENDEE;CN="Ages 6-36 months";ROLE=REQ-PARTICIPANT:Ages 6-36 months
CONTACT:Miss Windy\, 231-775-6541\, barrettw@cadillaclibrary.org
CREATED:20190301T173328Z
DESCRIPTION:Mouth safe play for very young children!  Ages 6-36 months.  I
 f you have concerns about allergies\, contact Miss Windy before the progra
 m.
LAST-MODIFIED:20190301T173333Z
LOCATION:Cadillac Wexford Public Library
URL:https://cadillac.ploud.net/Calendar/lib-cal/messy-baby-happy-baby-13
END:VEVENT
BEGIN:VTIMEZONE
TZID:US/Eastern
X-LIC-LOCATION:US/Eastern
BEGIN:DAYLIGHT
DTSTART:20190310T030000
TZNAME:EDT
TZOFFSETFROM:-0500
TZOFFSETTO:-0400
END:DAYLIGHT
END:VTIMEZONE
END:VCALENDAR
