BEGIN:VCALENDAR
VERSION:2.0
PRODID:-//Plone.org//NONSGML plone.app.event//EN
X-WR-TIMEZONE:US/Eastern
BEGIN:VEVENT
SUMMARY:ParaNorman (movie)
DTSTART;TZID=US/Eastern:20121129T180000
DTEND;TZID=US/Eastern:20121129T200000
DTSTAMP:20260420T120823Z
UID:2f16c53744acbd013827396ccf0b8124@saas_stack_varnish:6080
CONTACT:231-775-6541\, liedekea@cadillaclibrary.org
CREATED:20121022T164925Z
DESCRIPTION:ParaNorman movie with a run time of 1 hour and 32 minutes.
LAST-MODIFIED:20121022T164939Z
LOCATION:Cadillac Meeting Room
URL:https://cadillac.ploud.net/Calendar/lib-cal/paranorman-movie.ics
END:VEVENT
BEGIN:VTIMEZONE
TZID:US/Eastern
X-LIC-LOCATION:US/Eastern
BEGIN:STANDARD
DTSTART:20121104T010000
TZNAME:EST
TZOFFSETFROM:-0400
TZOFFSETTO:-0500
END:STANDARD
END:VTIMEZONE
END:VCALENDAR
