BEGIN:VCALENDAR
VERSION:2.0
PRODID:-//Plone.org//NONSGML plone.app.event//EN
X-WR-TIMEZONE:US/Eastern
BEGIN:VEVENT
SUMMARY:Pop-Up Playtime
DTSTART;TZID=US/Eastern:20190329T150000
DTEND;TZID=US/Eastern:20190329T160000
DTSTAMP:20260420T115745Z
UID:3f785f0fee1c437fb802685c94b0fa23@saas_stack_varnish:6080
ATTENDEE;CN="Families welcome!";ROLE=REQ-PARTICIPANT:Families welcome!
CONTACT:Miss Windy\, 231-775-6541\, barrettw@cadillaclibrary.org
CREATED:20190125T141404Z
DESCRIPTION:Looking for something to do during Spring Break?
LAST-MODIFIED:20190125T141407Z
LOCATION:Cadillac Wexford Public Library
URL:https://cadillac.ploud.net/Calendar/lib-cal/pop-up-playtime/2019-03-29
END:VEVENT
BEGIN:VTIMEZONE
TZID:US/Eastern
X-LIC-LOCATION:US/Eastern
BEGIN:DAYLIGHT
DTSTART:20190310T030000
TZNAME:EDT
TZOFFSETFROM:-0500
TZOFFSETTO:-0400
END:DAYLIGHT
END:VTIMEZONE
END:VCALENDAR
