BEGIN:VCALENDAR
VERSION:2.0
PRODID:-//Plone.org//NONSGML plone.app.event//EN
X-WR-TIMEZONE:US/Eastern
BEGIN:VEVENT
SUMMARY:Read to a Dog!
DTSTART;TZID=US/Eastern:20121203T160000
DTEND;TZID=US/Eastern:20121203T170000
DTSTAMP:20260420T120802Z
UID:3d3639b47c2f114a6e49807e0edf7b96@saas_stack_varnish:6080
CONTACT:Miss Tracy\, 231-775-6541 ext. 106
CREATED:20121114T190254Z
DESCRIPTION:Practice your reading with Lily\, a trained therapy dog! Don't
  worry if you're not the best reader- Lily doesn't mind! She just wants to
  hear some stories. Caregivers- reading to a therapy dog is a great way to
  relax reluctant readers and encourage them to practice. No sign up necess
 ary\, just come ready to read!
LAST-MODIFIED:20121114T190355Z
URL:https://cadillac.ploud.net/Calendar/lib-cal/read-to-a-dog.ics
END:VEVENT
BEGIN:VTIMEZONE
TZID:US/Eastern
X-LIC-LOCATION:US/Eastern
BEGIN:STANDARD
DTSTART:20121104T010000
TZNAME:EST
TZOFFSETFROM:-0400
TZOFFSETTO:-0500
END:STANDARD
END:VTIMEZONE
END:VCALENDAR
