BEGIN:VCALENDAR
VERSION:2.0
PRODID:-//Plone.org//NONSGML plone.app.event//EN
X-WR-TIMEZONE:US/Eastern
BEGIN:VEVENT
SUMMARY:Rudolph the Red Nosed Reindeer (movie)
DTSTART;TZID=US/Eastern:20121206T180000
DTEND;TZID=US/Eastern:20121206T200000
DTSTAMP:20260420T120822Z
UID:4ed9ee2dd853a0f04ecdb3a6bd22c835@saas_stack_varnish:6080
CONTACT:231-775-6541
CREATED:20121130T193016Z
DESCRIPTION:The animated classic Rudolph the Red Nosed Reindeer.
LAST-MODIFIED:20121130T193129Z
LOCATION:Cadillac Meeting Room
URL:https://cadillac.ploud.net/Calendar/lib-cal/rudolph-the-red-nosed-rein
 deer.ics
END:VEVENT
BEGIN:VTIMEZONE
TZID:US/Eastern
X-LIC-LOCATION:US/Eastern
BEGIN:STANDARD
DTSTART:20121104T010000
TZNAME:EST
TZOFFSETFROM:-0400
TZOFFSETTO:-0500
END:STANDARD
END:VTIMEZONE
END:VCALENDAR
