BEGIN:VCALENDAR
VERSION:2.0
PRODID:-//Plone.org//NONSGML plone.app.event//EN
X-WR-TIMEZONE:US/Eastern
BEGIN:VEVENT
SUMMARY:Tween Advisory Board
DTSTART;TZID=US/Eastern:20121203T180000
DTEND;TZID=US/Eastern:20121203T190000
DTSTAMP:20260420T120802Z
UID:d4fb9b33849c0292f932d508ce5b0e0c@saas_stack_varnish:6080
CONTACT:Miss Tracy\, 775-6541 ext. 106
CREATED:20120822T161628Z
DESCRIPTION:Ages 10-14. Tweens tells us what kinds of books and programs o
 ur library needs! Christmas Party December 3- Games\, Pizza\, and Fun! Cal
 l Miss Tracy at 231-775-6541 to RSVP
LAST-MODIFIED:20121114T185523Z
LOCATION:Cadillac Public Library
URL:https://cadillac.ploud.net/Calendar/lib-cal/tween-advisory-board-1.ics
END:VEVENT
BEGIN:VTIMEZONE
TZID:US/Eastern
X-LIC-LOCATION:US/Eastern
BEGIN:STANDARD
DTSTART:20121104T010000
TZNAME:EST
TZOFFSETFROM:-0400
TZOFFSETTO:-0500
END:STANDARD
END:VTIMEZONE
END:VCALENDAR
