BEGIN:VCALENDAR
VERSION:2.0
PRODID:-//Plone.org//NONSGML plone.app.event//EN
X-WR-TIMEZONE:US/Eastern
BEGIN:VEVENT
SUMMARY:Tween Advisory Board
DTSTART;TZID=US/Eastern:20130107T180000
DTEND;TZID=US/Eastern:20130107T190000
DTSTAMP:20260420T085522Z
UID:10b854e721804f20becfa2b9fb664dfa@saas_stack_varnish:6080
CONTACT:Tracy Logan\, 231-775-6541\, logant@cadillaclibrary.org
CREATED:20121213T234743Z
DESCRIPTION:Tweens/Teens tell us what you want! Help plan fun programs at 
 the library and pick out awesome books. An activitiy and snack included! A
 ges 10-14.
LAST-MODIFIED:20130410T210103Z
LOCATION:Cadillac Wexford Public Library
URL:https://cadillac.ploud.net/Calendar/lib-cal/tween-advisory-board-2.ics
END:VEVENT
BEGIN:VTIMEZONE
TZID:US/Eastern
X-LIC-LOCATION:US/Eastern
BEGIN:STANDARD
DTSTART:20121104T010000
TZNAME:EST
TZOFFSETFROM:-0400
TZOFFSETTO:-0500
END:STANDARD
END:VTIMEZONE
END:VCALENDAR
