BEGIN:VCALENDAR
VERSION:2.0
PRODID:-//Plone.org//NONSGML plone.app.event//EN
X-WR-TIMEZONE:US/Eastern
BEGIN:VEVENT
SUMMARY:Up North Digital for your eReader
DTSTART;TZID=US/Eastern:20130111T100000
DTEND;TZID=US/Eastern:20130111T120000
DTSTAMP:20260420T124431Z
UID:2f40a5d58a16c53a1faffed318b8aeb1@saas_stack_varnish:6080
CONTACT:April Liedeke\, 231-775-6541\, liedekea@cadillaclibrary.org
CREATED:20121130T215508Z
DESCRIPTION:Learn how to use the Up North Digital Collection on your eRead
 er (Kindle\, Nook\, Pandigital\, iPad\, etc.)
LAST-MODIFIED:20121130T215534Z
LOCATION:Cadillac Meeting Room
URL:https://cadillac.ploud.net/Calendar/lib-cal/up-north-digital-for-your-
 ereader.ics
END:VEVENT
BEGIN:VTIMEZONE
TZID:US/Eastern
X-LIC-LOCATION:US/Eastern
BEGIN:STANDARD
DTSTART:20121104T010000
TZNAME:EST
TZOFFSETFROM:-0400
TZOFFSETTO:-0500
END:STANDARD
END:VTIMEZONE
END:VCALENDAR
