BEGIN:VCALENDAR
VERSION:2.0
PRODID:-//Plone.org//NONSGML plone.app.event//EN
X-WR-TIMEZONE:US/Eastern
BEGIN:VEVENT
SUMMARY:Zombie Nerf Wars
DTSTART;TZID=US/Eastern:20190329T180000
DTEND;TZID=US/Eastern:20190329T200000
DTSTAMP:20260420T115654Z
UID:9bd00820c5a44cf1913c0fe98c4f9743@saas_stack_varnish:6080
ATTENDEE;CN="Grades 5th - 8th";ROLE=REQ-PARTICIPANT:Grades 5th - 8th
CONTACT:Miss Emily\, 231-775-6541\, teens@cadillaclibrary.org
CREATED:20190111T145153Z
DESCRIPTION:Grades 5-8 Grab your Nerf gun & a friend to fight off hordes o
 f the undead!  This event fills up quickly - Sign up ASAP.  The library wi
 ll provide all bullets for this event.  Don't have a Nerf gun?  We have ex
 tras!
LAST-MODIFIED:20190111T145207Z
LOCATION:Cadillac Wexford Public Library
URL:https://cadillac.ploud.net/Calendar/lib-cal/zombie-nerf-wars-8
END:VEVENT
BEGIN:VTIMEZONE
TZID:US/Eastern
X-LIC-LOCATION:US/Eastern
BEGIN:DAYLIGHT
DTSTART:20190310T030000
TZNAME:EDT
TZOFFSETFROM:-0500
TZOFFSETTO:-0400
END:DAYLIGHT
END:VTIMEZONE
END:VCALENDAR
